BEGIN:VCALENDAR
VERSION:2.0
PRODID:-//Ordine delle Psicologhe e degli Psicologi del Piemonte - ECPv6.15.20//NONSGML v1.0//EN
CALSCALE:GREGORIAN
METHOD:PUBLISH
X-ORIGINAL-URL:https://oldopp.futuretechlead.com
X-WR-CALDESC:Eventi per Ordine delle Psicologhe e degli Psicologi del Piemonte
REFRESH-INTERVAL;VALUE=DURATION:PT1H
X-Robots-Tag:noindex
X-PUBLISHED-TTL:PT1H
BEGIN:VTIMEZONE
TZID:Europe/Rome
BEGIN:DAYLIGHT
TZOFFSETFROM:+0100
TZOFFSETTO:+0200
TZNAME:CEST
DTSTART:20240331T010000
END:DAYLIGHT
BEGIN:STANDARD
TZOFFSETFROM:+0200
TZOFFSETTO:+0100
TZNAME:CET
DTSTART:20241027T010000
END:STANDARD
BEGIN:DAYLIGHT
TZOFFSETFROM:+0100
TZOFFSETTO:+0200
TZNAME:CEST
DTSTART:20250330T010000
END:DAYLIGHT
BEGIN:STANDARD
TZOFFSETFROM:+0200
TZOFFSETTO:+0100
TZNAME:CET
DTSTART:20251026T010000
END:STANDARD
BEGIN:DAYLIGHT
TZOFFSETFROM:+0100
TZOFFSETTO:+0200
TZNAME:CEST
DTSTART:20260329T010000
END:DAYLIGHT
BEGIN:STANDARD
TZOFFSETFROM:+0200
TZOFFSETTO:+0100
TZNAME:CET
DTSTART:20261025T010000
END:STANDARD
BEGIN:DAYLIGHT
TZOFFSETFROM:+0100
TZOFFSETTO:+0200
TZNAME:CEST
DTSTART:20270328T010000
END:DAYLIGHT
BEGIN:STANDARD
TZOFFSETFROM:+0200
TZOFFSETTO:+0100
TZNAME:CET
DTSTART:20271031T010000
END:STANDARD
END:VTIMEZONE
BEGIN:VEVENT
DTSTART;VALUE=DATE:20250301
DTEND;VALUE=DATE:20251223
DTSTAMP:20260421T070404
CREATED:20240827T100014Z
LAST-MODIFIED:20240827T100643Z
UID:35699-1740787200-1766447999@oldopp.futuretechlead.com
SUMMARY:Master di Psicomotricità clinica e della riabilitazione neuropsicologica
DESCRIPTION:PROGRAMMA DEL CORSO \nIl Master in Psicomotricità Clinica e della Riabilitazione Neuropsicologica si pone come obiettivo principale quello di fornire una formazione teorico-pratica completa\, mirata a sviluppare competenze avanzate nei partecipanti per operare efficacemente con un’ampia gamma di utenza. \nIl corso include le attività utili ad acquisire le competenze per affrontare diversi tipi di utenza che comprendono: la formazione online teorico-esperienziale con lezioni frontali\, video e attività pratiche esperienziali idonee alla modalità a distanza e laboratori pratici-esperienziali in presenza con casi clinici e attività simulate. \nLe basi teorico-pratiche fornite durante il Master sono sviluppate sia per fasce di età (evolutiva\, adulta\, anziana) sia in riferimento alle caratteristiche dell’utenza (normodotata e/o con disabilità\, ritardi e carenze dello sviluppo). L’obiettivo è fornire ai partecipanti uno schema di base per rapportarsi\, attraverso tecniche derivate dalla Psicomotricità clinica Funzionale e Relazionale e della riabilitazione neuropsicologica\, a una vasta gamma di utenti\, e sviluppare modalità di intervento sempre più personalizzate. \nDurante il corso\, verranno trattati temi fondamentali come la presa in carico del soggetto\, l’osservazione e la valutazione psicomotoria e neuropsicologica\, per arrivare a sviluppare interventi adeguati alle caratteristiche individuali e alle patologie più comuni\, sia congenite che acquisite. Nella parte centrale del corso\, saranno forniti strumenti idonei alla valutazione e osservazione psicomotoria e neuropsicologica della persona\, integrando e ampliando le conoscenze cliniche e diagnostiche dei discenti. \nLo scopo del Master è quindi quello di fornire una strumentazione aggiuntiva\, completa sotto tutti i punti di vista e in linea con quella del corso di laurea in psicologia\, per ampliare le possibilità di lavoro e di intervento dei partecipanti. Questo approccio permette di sviluppare competenze concrete e immediatamente applicabili\, migliorando la capacità dei professionisti di rispondere alle diverse esigenze di pazienti e utenti. \n\nCOMPETENZE ACQUISITE \nCompetenze in Psicomotricità Clinica: \n\nSviluppo di interventi psicomotori mirati a migliorare le funzioni motorie e cognitive.\nCapacità di valutare e trattare disturbi cognitivi in diverse fasce di età.\nUtilizzo di tecniche specifiche per la riabilitazione di soggetti con patologie congenite e acquisite.\n\nNeuroscienze e Neuropsicologia: \n\nComprensione delle basi biologiche e cognitive del comportamento umano.\nIntegrazione delle conoscenze neuroscientifiche nelle pratiche di intervento psicomotorio e neuropsicologico.\n\nCompetenze in Psicomotricità Funzionale: \n\nApplicazione di tecniche psicomotorie per supportare il recupero di funzioni cognitive in pazienti con disturbi neuropsicologici.\nUtilizzo di esercizi psicomotori per migliorare l’attenzione\, la memoria e le funzioni esecutive nei pazienti con deficit neuropsicologici.\nIntervento psicomotorio per facilitare la neuroplasticità e il recupero funzionale.\n\nFormazione Diagnostica Teorico-Pratica: \n\nUtilizzo di strumenti diagnostici per valutare le condizioni psicomotorie e neuropsicologiche.\nFormulazione di piani di trattamento basati su una diagnosi precisa e accurata.\n\nCompetenze in Psicomotricità Relazionale: \n\nPromozione dell’espressione emotiva attraverso il movimento.\nMiglioramento della consapevolezza corporea e dell’autostima.\nFacilitazione delle interazioni sociali e della comunicazione non verbale.\nSviluppo delle competenze relazionali e sociali attraverso il gioco e l’interazione corporea.\n\nPreparazione e Promozione di Progetti: \n\nProgettazione e gestione di interventi psicomotori in ambito pubblico e privato.\nPromozione di programmi e iniziative per migliorare il benessere psicomotorio e cognitivo.\n\nCompetenze in Riabilitazione Neuropsicologica: \n\nConoscenza delle basi neuroscientifiche e neuropsicologiche dei disturbi cognitivi e comportamentali.\nAbilità nella valutazione neuropsicologica e nella formulazione di piani di trattamento personalizzati.\nApplicazione di interventi mirati al recupero delle funzioni cognitive compromesse.\n\n\nAccreditamenti: Ministero della Salute \nCrediti ECM: 100 \nAttestato: Psicomotricista clinico e della riabilitazione neuropsicologica \nDestinatari: laureati e laureandi in Psicologia. \nModalità di erogazione: Il Master verrà svolto principalmente in modalità webinar live\, con l’ultimo weekend in aula\, a Milano \n\nCALENDARIO \nLe lezioni si svolgeranno dalle ore 09.30 alle ore 17.30 nei giorni: \n1-2 e 15-16 e 28-29-30 marzo 2025 \n12-13 aprile 2025 \n3-4 e 17-18 maggio 2025 \n7-8 e 14-15 giugno 2025 \n20-21 settembre 2025 \n4-5 e 18-19 ottobre 2025 \n8-9 e 22 novembre 2025 \n\n→ Consulta le Informazioni sul corso ←
URL:https://oldopp.futuretechlead.com/evento/master-di-psicomotricita-clinica-e-della-riabilitazione-neuropsicologica/
CATEGORIES:Altri Organizzatori,Corsi ECM
END:VEVENT
BEGIN:VEVENT
DTSTART;TZID=Europe/Rome:20250310T000000
DTEND;TZID=Europe/Rome:20251231T000000
DTSTAMP:20260421T070404
CREATED:20250311T102911Z
LAST-MODIFIED:20250311T103008Z
UID:39895-1741564800-1767139200@oldopp.futuretechlead.com
SUMMARY:Nuove prospettive nell’elaborazione del lutto
DESCRIPTION:Evento FAD asincrono accreditato ECM\n9 crediti formativi \n  \nNell’ambito dell’offerta formativa ECM in forma gratuita 2025 l’OPP propone l’evento dal titolo “Nuove prospettive nell’elaborazione del lutto”. \nObiettivo della formazione proposta è Incrementare la conoscenza sul lutto e sugli aspetti psicopatologi del lutto; incrementare la conoscenza sul ruolo del significato nel processo di elaborazione del lutto; descrivere i principali interventi psicologici finalizzati a ridurre il distress emozionale ed esistenziale della persona in lutto; descrivere il “distress” dell’operatore sanitario e analizzare i principali intervento sull’operatore sanitario; incrementare la consapevolezza della propria finitezza. \nÈ possibile frequentare il corso asincrono dal 10 marzo 2025 al 31 dicembre 2025 on line. \nPer poter partecipare all’evento\, Ti invitiamo a seguire le seguenti indicazioni: \n( Per qualsiasi necessità di supporto scrivere a helpdesk@ceoformazione.it) \nAccedi all’area riservata dell’Ordine Psicologi Piemonte e clicca sul pulsante FORMAZIONE ECM OPP. Entrerai automaticamente nella Piattaforma di formazione ECM. La prima volta che accederai sarà necessario che tu completi il tuo profilo in tutti i campi (DATI PERSONALI E PROFESSIONALI). Una volta cliccato su AGGIORNA PROFILO potrai\, entrando in Home Page\, iscriverti al corso cliccando sul pulsante ISCRIVIMI. Una volta raggiunto il numero massimo di iscrizioni apparirà un pulsante LISTA D’ATTESA verrai in seguito avvisato via mail se la tua iscrizione sarà accettata. \nN.B. Se hai dimenticato la password per accedere al sito dell’Ordine\, clicca su “Hai dimenticato la password?”\, poi inserisci l’indirizzo E-mail e clicca su “ottieni una nuova password”. Eventualmente\, controlla anche nella cartella dello spam se è presente il messaggio. \nTi ricordiamo che i crediti formativi ECM verranno riconosciuti solo ed esclusivamente del completamento delle seguenti fasi: \n\nFASE 1: raggiungimento del 100% della visione delle risorse didattiche;\nFASE 2: superamento del questionario apprendimento presente su FORMAZIONEECMOPP;\nFASE 3: completamento del questionario di gradimento presente su FORMAZIONEECMOPP.\n\nL’attestato ECM sarà presente sulla piattaforma Formazione Sanità Piemonte dal 31.01.26 (Cliccando sul link CURRICULUM FORMATIVO\, troverai il simbolo DOSSIER FORMATIVO – cartella ISTRUZIONE E FORMAZIONE. All’interno di questa cartella\, alla voce FORMAZIONE CONTINUA e alla dicitura ESITO\, troverai l’icona per visionare e scaricare l’attestato). \nÈ possibile recuperare i crediti ECM mancanti per il triennio 2020-2022 fino al 31 dicembre 2025. Tuttavia\, è necessario acquisire anche i crediti previsti per il triennio attualmente in corso. 
URL:https://oldopp.futuretechlead.com/evento/nuove-prospettive-nellelaborazione-del-lutto/
CATEGORIES:Corsi ECM Gratuiti,OPP
END:VEVENT
BEGIN:VEVENT
DTSTART;TZID=Europe/Rome:20250317T080000
DTEND;TZID=Europe/Rome:20251231T200000
DTSTAMP:20260421T070404
CREATED:20250318T120742Z
LAST-MODIFIED:20250318T120742Z
UID:40049-1742198400-1767211200@oldopp.futuretechlead.com
SUMMARY:Adolescenti e nuove identità
DESCRIPTION:Evento FAD asincrono accreditato ECM\n3 crediti formativi \nNell’ambito dell’offerta formativa ECM in forma gratuita 2025 l’OPP propone l’evento dal titolo “Adolescenti e nuove identità”. \nObiettivo della formazione proposta è aggiornare le Iscritte e gli Iscritti sulle tematiche emergenti che riguardano il mondo adolescenziale\, in particolare l’evoluzione del digitale e le conseguenze e/o opportunità che possono nascere\, il grande tema del genere\, della fluidità e nel contempo come rapportarsi ai giovani in un contesto in cui gli adulti faticano ad essere modelli di riferimento\, causa le fragilità diffuse nel periodo post pandemico. \nÈ possibile frequentare il corso asincrono dal 17 marzo 2025 al 31 dicembre 2025 on line. \nPer poter partecipare all’evento\, Ti invitiamo a seguire le seguenti indicazioni: \n(Per qualsiasi necessità di supporto scrivere a helpdesk@ceoformazione.it) \nAccedi all’area riservata dell’Ordine Psicologi Piemonte e clicca sul pulsante FORMAZIONE ECM OPP. Entrerai automaticamente nella Piattaforma di formazione ECM. La prima volta che accederai sarà necessario che tu completi il tuo profilo in tutti i campi (DATI PERSONALI E PROFESSIONALI). Una volta cliccato su AGGIORNA PROFILO potrai\, entrando in Home Page\, iscriverti al corso cliccando sul pulsante ISCRIVIMI. Una volta raggiunto il numero massimo di iscrizioni apparirà un pulsante LISTA D’ATTESA verrai in seguito avvisato via mail se la tua iscrizione sarà accettata. \nN.B. Se hai dimenticato la password per accedere al sito dell’Ordine\, clicca su “Hai dimenticato la password?”\, poi inserisci l’indirizzo E-mail e clicca su “ottieni una nuova password”. Eventualmente\, controlla anche nella cartella dello spam se è presente il messaggio. \nTi ricordiamo che i crediti formativi ECM verranno riconosciuti solo ed esclusivamente del completamento delle seguenti fasi: \n\nFASE 1: raggiungimento del 100% della visione delle risorse didattiche;\nFASE 2: superamento del questionario apprendimento presente su FORMAZIONEECMOPP;\nFASE 3: completamento del questionario di gradimento presente su FORMAZIONEECMOPP.\n\nL’attestato ECM sarà presente sulla piattaforma Formazione Sanità Piemonte dal 31.01.26 (Cliccando sul link CURRICULUM FORMATIVO\, troverai il simbolo DOSSIER FORMATIVO – cartella ISTRUZIONE E FORMAZIONE. All’interno di questa cartella\, alla voce FORMAZIONE CONTINUA e alla dicitura ESITO\, troverai l’icona per visionare e scaricare l’attestato). \nÈ possibile recuperare i crediti ECM mancanti per il triennio 2020-2022 fino al 31 dicembre 2025. Tuttavia\, è necessario acquisire anche i crediti previsti per il triennio attualmente in corso. 
URL:https://oldopp.futuretechlead.com/evento/adolescenti-e-nuove-identita/
CATEGORIES:Corsi ECM,Corsi ECM Gratuiti,OPP
END:VEVENT
BEGIN:VEVENT
DTSTART;TZID=Europe/Rome:20250501T000000
DTEND;TZID=Europe/Rome:20251130T213000
DTSTAMP:20260421T070404
CREATED:20250507T083424Z
LAST-MODIFIED:20250507T083424Z
UID:40748-1746057600-1764538200@oldopp.futuretechlead.com
SUMMARY:Psicopatologia forense in ambito familiare: civilistico\, penalistico\, canonistico
DESCRIPTION:Accreditamenti: Ministero della Salute \nCrediti ECM: 50 \nAttestato: Coordinatore corsi di accompagnamento alla nascita\, conduzione di gruppi e genitorialità. \nDestinatari: \nLa formazione è aperta a: \n– Laureati in Psicologia; \n– Laureati in Ostetricia; \n– Psicoterapeuti; \n– Studenti o laureandi in Psicologia; \n– Studenti o laureandi in Ostetricia; \nprovenienti da qualsiasi Università italiana o straniera equipollente. \nModalità di erogazione: Erogato in presenza con possibilità di differita online per la parte teorica. \n  \nCalendario: \nMaggio-Novembre 2025 \nContatti: \nMail: info@sispi.eu – www.sispi.eu \n  \n  \n——————– SCARICA IL PROGRAMMA ——————–
URL:https://oldopp.futuretechlead.com/evento/psicopatologia-forense-in-ambito-familiare-civilistico-penalistico-canonistico/
CATEGORIES:Altri Organizzatori,Corsi ECM
END:VEVENT
BEGIN:VEVENT
DTSTART;VALUE=DATE:20250510
DTEND;VALUE=DATE:20251207
DTSTAMP:20260421T070404
CREATED:20240827T101820Z
LAST-MODIFIED:20240827T101820Z
UID:35706-1746835200-1765065599@oldopp.futuretechlead.com
SUMMARY:Master di Specializzazione in  Criminologia Clinica Forense e Vittimologia Applicata
DESCRIPTION:PRESENTAZIONE DEL MASTER \nIl Master si propone come obiettivo quello di fornire una specifica ed alta competenza psicologica in criminologia e vittimologia clinica e forense. Nello specifico si prefigge lo scopo di fare acquisire teorie\, strumenti e tecniche psicologiche necessarie al fine di poter progettare interventi e trattamenti individuali e di gruppo\, condurre colloqui anamnestici e diagnostici in ambito vittimologico. In aggiunta\, ha come obiettivo quello di fornire competenze per un’ampia ed esaustiva preparazione come consulenti giudiziari di ufficio o di parte e come consulenti per il calcolo del danno esistenziale e biologico. \n\nCOMPETENZE ACQUISITE \n\nTeoria e metodo della psicologia e psicopatologia narrativo-relazionale\nDiagnosi e presa in carico individuale e gruppale della vittima diretta ed indiretta e dell’autore di reato\nIntervento\, formazione e prevenzione dello stress\, burn-out\, e del trauma vicario negli operatori\nConsulenze giudiziarie di ufficio o di parte\nConsulenze per calcolo del danno biologico ed esistenziale\n\n\nSBOCCHI LAVORATIVI \nIl Criminologo clinico e specialista in vittimologia applicata lavora in centri anti-violenza\, pronto-soccorso\, associazioni di categoria e altre organizzazioni socio-assistenziali e giudiziarie che si occupano di vittime o carceri e altri enti di recupero per l’educazione degli autori di reato. Può esercitare la propria professione con questa qualifica aggiuntiva presso studi privati come libero professionista. \n\nAccreditamenti: Ministero della Salute \nCrediti ECM: 50 \nAttestato: Criminologo clinico forense e Specialista in vittimologia applicata \nDestinatari: \nLa formazione è aperta a: \n\nLaureati in Psicologia;\nLaureati in Psicologia con specializzazione in Psicoterapia;\nStudenti della Facoltà di Psicologia;\nLaureati in Medicina e Chirurgia con specializzazione o specializzandi in Psicoterapia o Psichiatria;\n\nprovenienti da qualsiasi Università italiana o straniera equipollente. \nModalità di erogazione: \nIl Master in Vittimologia e Criminologia verrà svolto online\, in modalità webinar live\, con la possibilità di interagire con il docente e gli altri studenti. \n\nCALENDARIO \nLe lezioni si svolgeranno dalle ore 09.00 alle ore 17.00 nei seguenti giorni: \n8 e 22 marzo 2025 \n5 aprile 2025 \n10 e 24 maggio 2025 \n7 e 21 giugno 2025 \n13 e 27 settembre 2025 \n11 e 25 ottobre 2025 \n8 e 22 novembre 2025 \n6 dicembre 2025 \n\nCONTATTI \nMail: info@psicologilombardia.it \n\n→ Consulta le Informazioni sul corso ←
URL:https://oldopp.futuretechlead.com/evento/master-di-specializzazione-in-criminologia-clinica-forense-e-vittimologia-applicata/
CATEGORIES:Altri Organizzatori,Corsi ECM
END:VEVENT
BEGIN:VEVENT
DTSTART;TZID=Europe/Rome:20250625T080000
DTEND;TZID=Europe/Rome:20260913T170000
DTSTAMP:20260421T070404
CREATED:20250609T074314Z
LAST-MODIFIED:20250609T074314Z
UID:41245-1750838400-1789318800@oldopp.futuretechlead.com
SUMMARY:Master in Arteterapia Integrata
DESCRIPTION:  \nCalendario: \ne lezioni si svolgeranno dalle 9:30-13:00 e dalle 14:00 alle 17:30 i seguenti giorni: \n24-25 gennaio 2026 \n14-15 febbraio 2026 \n14-15 marzo 2026 \n11-12 aprile 2026 \n9-10 e 23-24 maggio 2026 \n6–7 e 20-21 giugno 2026 \n12-13 settembre 2026 \nContatti: \nMail: segreteria@uniateneo.it \nLink al corso:  https://www.uniateneo.it/formazione/arteterapia-integrata   \n< \n  \n——————– SCARICA IL PROGRAMMA ——————–
URL:https://oldopp.futuretechlead.com/evento/master-in-arteterapia-integrata-3/
CATEGORIES:Altri Organizzatori,Corsi ECM
END:VEVENT
BEGIN:VEVENT
DTSTART;TZID=Europe/Rome:20250901T000000
DTEND;TZID=Europe/Rome:20261231T210000
DTSTAMP:20260421T070404
CREATED:20250507T081112Z
LAST-MODIFIED:20250507T081851Z
UID:40742-1756684800-1798750800@oldopp.futuretechlead.com
SUMMARY:Dinamica di Gruppo con l’Esperienza Immaginativa
DESCRIPTION:Crediti ECM: 50 \n——————– SCARICA IL PROGRAMMA ——————–
URL:https://oldopp.futuretechlead.com/evento/dinamica-di-gruppo-con-lesperienza-immaginativa-2/
CATEGORIES:Altri Organizzatori,Corsi ECM
END:VEVENT
BEGIN:VEVENT
DTSTART;TZID=Europe/Rome:20250901T090000
DTEND;TZID=Europe/Rome:20251122T180000
DTSTAMP:20260421T070404
CREATED:20250313T081222Z
LAST-MODIFIED:20250313T081222Z
UID:39986-1756717200-1763834400@oldopp.futuretechlead.com
SUMMARY:Mindful Self-Compassion (MSC)
DESCRIPTION:Accreditamenti: Ministero della Salute \nCrediti ECM: 25 \nCertificato: Mindful Self-Compassion– rilasciato dalla Federazione Italiana Mindfulness. \nAttestato: Istruttore Mindful Self-Compassion. \nModalità di erogazione: \nIl corso è erogato in modalità mista\, garantendo flessibilità e un apprendimento profondo: \n✔ Lezioni on-demand registrate: offrono una solida base teorica da seguire in autonomia; \n✔ Sessioni pratiche online in diretta: laboratori interattivi condotti da docenti esperti per applicare quanto appreso. \n  \nCalendario: \n01/09/2025 Rilascio corso FAD asincrono \n13/09 – 12/10 – 22/11 dalle ore 14.00 alle ore 18.00 \nContatti: \nMail: info@psicologilombardia.it \nLink al corso: https://www.psicologilombardia.it/formazione/master-in-gestione-di-centri-preparto  \n  \n  \n——————– SCARICA IL PROGRAMMA ——————–
URL:https://oldopp.futuretechlead.com/evento/mindful-self-compassion-msc/
CATEGORIES:Altri Organizzatori,Corsi ECM
END:VEVENT
BEGIN:VEVENT
DTSTART;TZID=Europe/Rome:20250913T093000
DTEND;TZID=Europe/Rome:20251214T173000
DTSTAMP:20260421T070404
CREATED:20250404T143230Z
LAST-MODIFIED:20250404T143230Z
UID:40281-1757755800-1765733400@oldopp.futuretechlead.com
SUMMARY:Master in Psicodiagnostica 2025
DESCRIPTION:Accreditamenti: Ministero della Salute \nCrediti ECM: 100 \nAttestato: Psicodiagnosta \nDestinatari: \n  Laureati in Psicologia; \n–      Psicoterapeuti; \n–      Laureati in medicina con specializzazione in psichiatria\, neuropsichiatria infantile; \n–      studenti di psicologia. \nModalità di erogazione: webinar \n  \nCalendario: \nLe lezioni si terranno dalle ore 9.30 alle ore 17.30 nei giorni: \n13 e 14 settembre 2025 \n27 e 28 settembre 2025 \n11 e 12 ottobre 2025 \n25 e 26 ottobre 2025 \n8 e 9 novembre 2025 \n22 e 23 novembre 2025 \n13 e 14 dicembre 2025 \n  \nContatti: \nMail: info@psicologilombardia.it \nLink al corso:  https://www.psicologilombardia.it/formazione/master-di-specializzazione-in-psicodiagnostica  \n  \n  \n——————– SCARICA IL PROGRAMMA ——————–
URL:https://oldopp.futuretechlead.com/evento/master-in-psicodiagnostica-2025/
CATEGORIES:Altri Organizzatori,Corsi ECM
END:VEVENT
BEGIN:VEVENT
DTSTART;TZID=Europe/Rome:20250926T143000
DTEND;TZID=Europe/Rome:20250926T183000
DTSTAMP:20260421T070404
CREATED:20250909T130407Z
LAST-MODIFIED:20250909T130407Z
UID:42214-1758897000-1758911400@oldopp.futuretechlead.com
SUMMARY:ECM Istruzioni per l’uso
DESCRIPTION:Evento FAD accreditato ECM\n6 crediti formativi \nNell’ambito dell’offerta formativa ECM in forma gratuita 2025 l’OPP propone l’evento dal titolo “ECM Istruzioni per l’uso”. \nObiettivo della formazione proposta: individuazione dei principi ispiratori e dei riferimenti normativi del sistema ECM; introduzione al sistema ECM e alle opportunità che esso prevede\, attraverso una disamina dei diversi aspetti del sistema\, condivisione della programmazione ECM 2026 del CNOP. \nIl corso si terrà il 26 settembre 2025\, dalle ore 14.30 alle ore 18.30 on line. \nÈ necessario collegarsi almeno un quarto d’ora prima dell’orario fissato in modo da verificare la corretta funzionalità della connessione. \nPer poter partecipare all’evento\, Ti invitiamo a seguire le seguenti indicazioni: \n(Per qualsiasi necessità di supporto scrivere a helpdesk@ceoformazione.it) \nFormazione ECM OPP \n\nAccedi all’area riservata dell’Ordine Psicologi Piemonte e clicca sul pulsante FORMAZIONE ECM OPP. Entrerai automaticamente nella Piattaforma di formazione ECM. La prima volta che accederai sarà necessario che tu completi il tuo profilo in tutti i campi (DATI PERSONALI E PROFESSIONALI). Una volta cliccato su AGGIORNA PROFILO potrai\, entrando in Home Page\, iscriverti al corso cliccando sul pulsante ISCRIVIMI. Una volta raggiunto il numero massimo di iscrizioni apparirà un pulsante LISTA D’ATTESA verrai in seguito avvisato via mail se la tua iscrizione sarà accettata. \n\nN.B. Se hai dimenticato la password per accedere al sito dell’Ordine\, clicca su “Hai dimenticato la password?”\, poi inserisci l’indirizzo E-mail e clicca su “ottieni una nuova password”. Eventualmente\, controlla anche nella cartella dello spam se è presente il messaggio. \nTi ricordiamo che i crediti formativi ECM verranno riconosciuti solo ed esclusivamente del completamento delle seguenti fasi: \n\nFASE 1: raggiungimento del 100% di presenza al corso;\nFASE 2: superamento del questionario di apprendimento entro le 72h successive al temine del corso;\nFASE 3: completamento del questionario di gradimento presente su FORMAZIONEECMOPP entro 7 giorni dalla chiusura del corso.\n\nL’attestato ECM sarà presente sulla piattaforma Formazione Sanità Piemonte dal 26.10.25 (Cliccando sul link CURRICULUM FORMATIVO\, troverai il simbolo DOSSIER FORMATIVO – cartella ISTRUZIONE E FORMAZIONE. All’interno di questa cartella\, alla voce FORMAZIONE CONTINUA e alla dicitura ESITO\, troverai l’icona per visionare e scaricare l’attestato). \nÈ possibile recuperare i crediti ECM mancanti del triennio 2020-2022 fino al 31 dicembre 2025. Tuttavia\, è altresì necessario acquisire i crediti previsti per il triennio attualmente in corso.
URL:https://oldopp.futuretechlead.com/evento/ecm-istruzioni-per-luso/
CATEGORIES:Corsi ECM,Corsi ECM Gratuiti,OPP
END:VEVENT
BEGIN:VEVENT
DTSTART;TZID=Europe/Rome:20250926T183000
DTEND;TZID=Europe/Rome:20250926T203000
DTSTAMP:20260421T070404
CREATED:20250910T141241Z
LAST-MODIFIED:20250911T071015Z
UID:42235-1758911400-1758918600@oldopp.futuretechlead.com
SUMMARY:Tessere la pace: immagini per un mondo condiviso
DESCRIPTION:DIALOGHI PER UNA CULTURA DELLA PACE \nVenerdì 26 settembre 2025\, ore 18:30\n \nTessere la pace. Immagini per un mondo condiviso \nCon Barbara Massimilla \nModerazione di Riccardo Bernardini \nCon la partecipazione di Valentina Mossa e Daniela Morero \nScarica la locandina\n\n\n\n \n  \n\n\n\n\n\n\nSerata culturale sul tema Tessere la pace: immagini per un mondo condiviso\, Venerdì 26 settembre 2025\, alle ore 18:30\, presso la Casa della Psicologia\, in via Giannone 8A\, a Torino. \nSi tratta del primo appuntamento nell’ambito dei Dialoghi per una cultural della pace – una rassegna di colloqui e conferenze promossi dall’OPP lungo il biennio 2025-2026\, aperti sia alle Iscritte e agli Iscritti all’Albo sia alla cittadinanza; una serie di incontri e dialoghi pensati per stimolare riflessione e ispirazione\, resilienza e creatività\, attraverso la ricerca di nuove visioni del mondo\, l’esplorazione di azioni fondate sul rispetto dell’altro e la conoscenza di esperienze – non di rado confinanti con l’utopia – orientate a promuovere  e difendere la pace. \nI due cortometraggi presentati in questa occasione\, scritti e diretti da Barbara Massimilla\, Intrecci (2023) e Welcome to the river (2025)\, valorizzano l’importanza della conoscenza di altri orizzonti culturali e del fenomeno della migrazione come simbolo di contaminazione feconda tra i popoli. In questo particolare momento storico\, riteniamo infatti che l’arte cinematografica possa trasmettere un messaggio determinante nel contrastare il razzismo\, la violenza di genere\, quella inflitta all’infanzia e quella agita nei confronti dei soggetti più vulnerabili\, le disuguaglianze\, lo sfruttamento e il traffico di esseri umani – valorizzando all’opposto la fraternità\, la solidarietà e l’empatia. \nIntrecci è ambientato nella splendida cornice del Museo di Palazzo Altemps a Roma\, che è sede di un importante Museo d’Arte antica con inserimenti di mostre di Arte moderna. La testa di Erinni\, con la sua eterna bellezza che può incarnarsi e rivivere\, diventa l’immagine simbolo del sogno che attraversa il femminile appartenente a diverse culture: vivere la propria natura introspettiva e relazionale in una dimensione storica universale di reciproca e pacifica “coesistenza”\, di movimento creativo e di contaminazioni feconde. Frammenti di immagini del corpo delle donne si mescolano con quelli delle statue. Sospese nel crocevia tra passato e presente\, le quattro donne\, di diversi continenti\, sfidano la caducità del tempo immergendosi nella meraviglia del museo che le ospita\, scambiando il loro abito con quello dell’altra\, in un risveglio che si apre al piacere e alla curiosità di intrecciare tra loro le proprie vite senza nessun timore e diffidenza. \n  \nWelcome to the river\, liberamente ispirato dalle storie di diversi casi clinici di giovani donne nigeriane ex vittime di tratta\, descrive in modo evocativo alcuni aspetti drammatici della migrazione nigeriana di oggi – e apri verso nuove prospettive – dove la “cura” e gli incontri positivi costituiscono una fonte concreta di rinascita. La trasformazione nella psiche della protagonista si consolida mediante l’approfondimento di relazioni umane creative\, in quanto attivatrici di amore e solidarietà\, figure significative rappresentate da personaggi che la protagonista incontra nel suo vagare alla ricerca della propria libertà. Il laboratorio alchemico che accompagna il processo di liberazione è il setting clinico\, con la possibilità di rappresentare scene della propria sofferenza e la condivisione ed elaborazione dei contenuti traumatici insieme alla figura fondamentale della terapeuta. Sostento dalla Fondazione Migrantes (nell’ambito del Programma Erasmus+)\, Welcome to the river ha ottenuto il Patrocinio di Amnesty International Italia con la seguente motivazione: “È molto intenso il racconto del percorso della ragazza ed è bello il fatto che non sia stata dipinta come soggetto passivo ‘da aiutare’\, ma come una persona che prende coscienza di sé\, ritrova le sue radici e si libera\, con un lavoro profondo e difficile”. \nBarbara Massimilla\, Psichiatra\, Psicoterapeuta e Psicologa Analista con funzioni didattiche dell’Associazione Italiana Psicologia Analitica (AIPA)\, è Presidente fondatrice dell’Associazione DUN ETS dedicata alle cure psicologiche a migranti e rifugiati. Redattrice della Rivista di Psicologia Analitica e della rivista Eidos. Cinema Psyche e Arti visive\, è regista e sceneggiatrice\, curatrice della Rassegna cinematografica annuale interculturale “S-Cambiamo il Mondo” presso la Casa del Cinema di Roma\, promossa dall’Associazione DUN\, la quale da anni riceve riconoscimenti e patrocini da parte di organizzazioni umanitarie internazionali (Amnesty International\, UNHCR). \nL’ingresso è libero e gratuito; è gradita l’iscrizione\, per il numero limitato di posti. \n  \nA seguire\, sarà offerto un rinfresco. \n\n\n\n\n\n\n\n\n\n\nClicca qui per partecipare
URL:https://oldopp.futuretechlead.com/evento/tessere-la-pace-immagini-per-un-mondo-condiviso/
LOCATION:Casa della Psicologia\, in via Giannone 8A\, a Torino
CATEGORIES:Corsi ECM Gratuiti,Dialoghi per la pace,OPP
END:VEVENT
END:VCALENDAR