BEGIN:VCALENDAR
VERSION:2.0
PRODID:-//Ordine delle Psicologhe e degli Psicologi del Piemonte - ECPv6.15.20//NONSGML v1.0//EN
CALSCALE:GREGORIAN
METHOD:PUBLISH
X-ORIGINAL-URL:https://oldopp.futuretechlead.com
X-WR-CALDESC:Eventi per Ordine delle Psicologhe e degli Psicologi del Piemonte
REFRESH-INTERVAL;VALUE=DURATION:PT1H
X-Robots-Tag:noindex
X-PUBLISHED-TTL:PT1H
BEGIN:VTIMEZONE
TZID:Europe/Rome
BEGIN:DAYLIGHT
TZOFFSETFROM:+0100
TZOFFSETTO:+0200
TZNAME:CEST
DTSTART:20250330T010000
END:DAYLIGHT
BEGIN:STANDARD
TZOFFSETFROM:+0200
TZOFFSETTO:+0100
TZNAME:CET
DTSTART:20251026T010000
END:STANDARD
BEGIN:DAYLIGHT
TZOFFSETFROM:+0100
TZOFFSETTO:+0200
TZNAME:CEST
DTSTART:20260329T010000
END:DAYLIGHT
BEGIN:STANDARD
TZOFFSETFROM:+0200
TZOFFSETTO:+0100
TZNAME:CET
DTSTART:20261025T010000
END:STANDARD
BEGIN:DAYLIGHT
TZOFFSETFROM:+0100
TZOFFSETTO:+0200
TZNAME:CEST
DTSTART:20270328T010000
END:DAYLIGHT
BEGIN:STANDARD
TZOFFSETFROM:+0200
TZOFFSETTO:+0100
TZNAME:CET
DTSTART:20271031T010000
END:STANDARD
BEGIN:DAYLIGHT
TZOFFSETFROM:+0100
TZOFFSETTO:+0200
TZNAME:CEST
DTSTART:20280326T010000
END:DAYLIGHT
BEGIN:STANDARD
TZOFFSETFROM:+0200
TZOFFSETTO:+0100
TZNAME:CET
DTSTART:20281029T010000
END:STANDARD
END:VTIMEZONE
BEGIN:VEVENT
DTSTART;TZID=Europe/Rome:20260228T000000
DTEND;TZID=Europe/Rome:20270331T235900
DTSTAMP:20260425T215604
CREATED:20250916T070522Z
LAST-MODIFIED:20250916T070522Z
UID:42309-1772236800-1806537540@oldopp.futuretechlead.com
SUMMARY:Master Universitario II Livello - PSICOLOGIA E PSICOTERAPIA ONLINE – RICERCHE\, PRINCIPI TEORICI E METODOLOGIE OPERATIVE
DESCRIPTION:Il Master universitario di II livello sul colloquio clinico online nasce con l’obiettivo di fornire una preparazione scientifica e metodologica avanzata\, in grado di integrare la ricerca internazionale con un approccio specifico alla realtà italiana. \nAnno Accademico 2025-2026 \nLink per il collegamento online: https://www.consorziohumanitas.com/psicologia-psicoterapia-online-ricerche-principi-teorici-metodologie-operative/ \n 
URL:https://oldopp.futuretechlead.com/evento/master-universitario-ii-livello-psicologia-e-psicoterapia-online-ricerche-principi-teorici-e-metodologie-operative/
CATEGORIES:Altri Organizzatori
END:VEVENT
BEGIN:VEVENT
DTSTART;VALUE=DATE:20260306
DTEND;VALUE=DATE:20270307
DTSTAMP:20260425T215604
CREATED:20251202T130105Z
LAST-MODIFIED:20251202T130158Z
UID:45365-1772755200-1804377599@oldopp.futuretechlead.com
SUMMARY:Master Universitario di II livello in Psicosomatica
DESCRIPTION:Un percorso formativo che unisce psicologia e medicina per formare professionisti capaci di leggere e trattare la complessità del rapporto mente-corpo. \nUn Master annuale con l’obiettivo di formare psicologi altamente qualificati in grado di affrontare la complessità delle patologie\, attraverso un’esperienza formativa che unisce solide basi teoriche\, esperienze applicative e momenti di supervisione clinica. \nDalle basi neurobiologiche alla pratica clinica\, il Master Universitario di II Livello in Psicosomatica offre una formazione specialistica sul legame mente-corpo.\nAlcuni insegnamenti chiave:\nBasi teoriche e cliniche della psicosomatica \n\nAttaccamento\nProspettiva evoluzionistica\nTrauma e corpo\n\nLa psicosomatica nei setting medici \n\nDCA\nDolore e cefalea\nPsicocardiologia\nPsiconcologia\n\nTrattamenti in psicosomatica \n\nInterventi cognitivo-costruttivisti\nInterventi in ottica psicodinamica\nSupervisioni cliniche\nTecniche di intervento\n\nApertura Iscrizioni: dal 01/12/2025 al 02/02/2026. \nDa marzo 2026 a marzo 2027. \n2 weekend al mese\n– venerdì h. 14-19\n– sabato h. 10-18 \nIn arrivo il programma didattico completo. \n——————–  SCARICA IL PROGRAMMA ——————–
URL:https://oldopp.futuretechlead.com/evento/master-universitario-di-ii-livello-in-psicosomatica/
LOCATION:Torino
CATEGORIES:Altri Organizzatori
END:VEVENT
END:VCALENDAR