BEGIN:VCALENDAR
VERSION:2.0
PRODID:-//Ordine delle Psicologhe e degli Psicologi del Piemonte - ECPv6.15.20//NONSGML v1.0//EN
CALSCALE:GREGORIAN
METHOD:PUBLISH
X-ORIGINAL-URL:https://oldopp.futuretechlead.com
X-WR-CALDESC:Eventi per Ordine delle Psicologhe e degli Psicologi del Piemonte
REFRESH-INTERVAL;VALUE=DURATION:PT1H
X-Robots-Tag:noindex
X-PUBLISHED-TTL:PT1H
BEGIN:VTIMEZONE
TZID:Europe/Rome
BEGIN:DAYLIGHT
TZOFFSETFROM:+0100
TZOFFSETTO:+0200
TZNAME:CEST
DTSTART:20240331T010000
END:DAYLIGHT
BEGIN:STANDARD
TZOFFSETFROM:+0200
TZOFFSETTO:+0100
TZNAME:CET
DTSTART:20241027T010000
END:STANDARD
BEGIN:DAYLIGHT
TZOFFSETFROM:+0100
TZOFFSETTO:+0200
TZNAME:CEST
DTSTART:20250330T010000
END:DAYLIGHT
BEGIN:STANDARD
TZOFFSETFROM:+0200
TZOFFSETTO:+0100
TZNAME:CET
DTSTART:20251026T010000
END:STANDARD
BEGIN:DAYLIGHT
TZOFFSETFROM:+0100
TZOFFSETTO:+0200
TZNAME:CEST
DTSTART:20260329T010000
END:DAYLIGHT
BEGIN:STANDARD
TZOFFSETFROM:+0200
TZOFFSETTO:+0100
TZNAME:CET
DTSTART:20261025T010000
END:STANDARD
END:VTIMEZONE
BEGIN:VEVENT
DTSTART;TZID=Europe/Rome:20250527T170000
DTEND;TZID=Europe/Rome:20250527T193000
DTSTAMP:20260424T125044
CREATED:20250521T071347Z
LAST-MODIFIED:20250523T095850Z
UID:40991-1748365200-1748374200@oldopp.futuretechlead.com
SUMMARY:Professione psicoterapeuta: professionalità a confronto
DESCRIPTION:Calendario: \n27 Maggio 2025\, ore 17:00 \nInfo e Registrazione: \nMail: scuola.torino@studicognitivi.net \nLink al corso: https://www.studicognitivi.it/evento/presentazione-scuola-torino/?fbclid=IwY2xjawKdBWlleHRuA2FlbQIxMABicmlkETBJT2J3dExrNjlBVXJYN2pzAR4wiHCJ5e34OM3IzGAiP2x-MVEp024GLnaICN5Xt37eP_KKZyzAJUjNjhsDXA_aem_f1LJNC7Ecgdbplb2-L-ekA
URL:https://oldopp.futuretechlead.com/evento/professione-psicoterapeuta-professionalita-a-confronto/
CATEGORIES:Patrocinati
END:VEVENT
END:VCALENDAR