BEGIN:VCALENDAR
VERSION:2.0
PRODID:-//Ordine delle Psicologhe e degli Psicologi del Piemonte - ECPv6.15.20//NONSGML v1.0//EN
CALSCALE:GREGORIAN
METHOD:PUBLISH
X-WR-CALNAME:Ordine delle Psicologhe e degli Psicologi del Piemonte
X-ORIGINAL-URL:https://oldopp.futuretechlead.com
X-WR-CALDESC:Eventi per Ordine delle Psicologhe e degli Psicologi del Piemonte
REFRESH-INTERVAL;VALUE=DURATION:PT1H
X-Robots-Tag:noindex
X-PUBLISHED-TTL:PT1H
BEGIN:VTIMEZONE
TZID:Europe/Rome
BEGIN:DAYLIGHT
TZOFFSETFROM:+0100
TZOFFSETTO:+0200
TZNAME:CEST
DTSTART:20200329T010000
END:DAYLIGHT
BEGIN:STANDARD
TZOFFSETFROM:+0200
TZOFFSETTO:+0100
TZNAME:CET
DTSTART:20201025T010000
END:STANDARD
BEGIN:DAYLIGHT
TZOFFSETFROM:+0100
TZOFFSETTO:+0200
TZNAME:CEST
DTSTART:20210328T010000
END:DAYLIGHT
BEGIN:STANDARD
TZOFFSETFROM:+0200
TZOFFSETTO:+0100
TZNAME:CET
DTSTART:20211031T010000
END:STANDARD
BEGIN:DAYLIGHT
TZOFFSETFROM:+0100
TZOFFSETTO:+0200
TZNAME:CEST
DTSTART:20220327T010000
END:DAYLIGHT
BEGIN:STANDARD
TZOFFSETFROM:+0200
TZOFFSETTO:+0100
TZNAME:CET
DTSTART:20221030T010000
END:STANDARD
END:VTIMEZONE
BEGIN:VEVENT
DTSTART;TZID=Europe/Rome:20210927T183000
DTEND;TZID=Europe/Rome:20210927T200000
DTSTAMP:20260421T191019
CREATED:20210701T135433Z
LAST-MODIFIED:20211025T134659Z
UID:7853-1632767400-1632772800@oldopp.futuretechlead.com
SUMMARY:I linguaggi segreti del corpo
DESCRIPTION:Data: 27/09/2021 \nASSOCIAZIONE CULTURALE SGT – SCUOLA GESTALT DI TORINO\n \n\n \nlunedì 27 settembre 2021\, dalle ore 18:30 alle ore 20:00\nAttraverso il corpo e l’equilibrio delle tensioni muscolari\, viaggiano le comunicazioni dell’es\, sia verso l’ambiente a cui trasmettiamo stati d’animo\, sensazioni ed emozioni\, intenzioni e risoluzioni\, che verso la nostra coscienza a cui il corpo comunica il proprio stato di salute ed il prezzo che paghiamo per le scelte adattive all’ambiente che ci circonda\, cioè le tensioni croniche\, le posture cristallizzate e i diversi tipi di sofferenza. Aumentare la consapevolezza del linguaggio corporeo proprio e dell’altro/a non vuol dire per lo/la Psicologo/a scoprire segreti che l’altro/a non vuole rivelare\, ma instaurare un contatto più profondo ed efficace con i/le nostri/e pazienti ed aiutarli/le ad accedere a livelli di coscienza più profondi e terapeutici. \nRelatore:\nDott. Mariano Pizzimenti\, Psicologo Psicoterapeuta\, Fondatore e Direttore della Scuola Gestalt di Torino.
URL:https://oldopp.futuretechlead.com/evento/i-linguaggi-segreti-del-corpo/
CATEGORIES:OPP,Psiche e soma
END:VEVENT
BEGIN:VEVENT
DTSTART;TZID=Europe/Rome:20210920T183000
DTEND;TZID=Europe/Rome:20210920T200000
DTSTAMP:20260421T191019
CREATED:20210701T135222Z
LAST-MODIFIED:20211025T134659Z
UID:7851-1632162600-1632168000@oldopp.futuretechlead.com
SUMMARY:Connessi: la dimensione corporea della relazione terapeutica nell’era digitale
DESCRIPTION:Data: 20/09/2021 \nCBT ACADEMY – SCUOLA DI PSICOTERAPIA COGNITIVO COMPORTAMENTALE NELL’AMBITO CLINICO E FORENSE\nlunedì 20 Settembre 2021\, dalle ore 18:30 alle ore 20:00 \nLa mediazione dello strumento tecnologico nel lavoro psicoterapeutico ha portato i clinici a rimodulare la distanza interpersonale\, adattando al nuovo setting anche il lavoro con il corpo (Ogden e Goldstein\, 2020). Si rifletterà dunque su limiti e risorse del setting da remoto nel lavoro di psicoterapia con gli adulti e nell’età evolutiva\, considerando in particolare il ruolo delle memorie implicite e dei sentimenti di fondo (Damasio\,1999) come esperienza significativa se consapevole nei processi di cambiamento in psicoterapia. \nRelatrici:\nDott.ssa Cristina Smaniotto\, Psicologa Psicoterapeuta cognitivo costruttivista\, Practitioner EMDR\, Membro dell’ESTD\, Socio ordinario e co-trainer SITCC. Consulente in sessuologia ed esperta in Dipendenze Tecnologiche. Libera professionista\, lavora in ambito clinico con adulti e adolescenti e ha collaborato per anni con l’AslTo1 in ambito psichiatrico e psico-traumatologico. È Docente presso la Scuola di Specializzazione CBT Academy di Torino. \nDott.ssa Tiziana Frau\, Psicologa Psicoterapeuta cognitivo comportamentale\, PhD in Psicologia clinica e delle relazioni interpersonali\, Specialista in approcci psicoterapeutici e di strumenti di valutazione basati sul modello dell’attaccamento. Practitioner in Theraplay e in Psicoterapia diadica evolutiva (DDP). Formazione professionale certificata sul trauma complesso e in strategie somatiche rivolte alla cura del trauma. Circle of Security parenting facilitator. Membro dell’ESTD\, European Society for trauma and dissociation\, AIESTD Associazione Italiana per lo Studio del Trauma e della Dissociazione\, Socio ordinario SITCC\, Società Italiana di Terapia Comportamentale e Cognitiva.\nLibera professionista\, svolge attività clinica per l’età evolutiva e adulti\, parenting\, con particolare esperienza su casi di affidi e adozione\, e disturbi della regolazione emotiva. Supervisore di équipe multidisciplinare in comunità madre e bambino e in centri diurni per bambini e adolescenti in situazione di grave difficoltà familiare. È Docente presso la Scuola di Specializzazione in Psicoterapia cognitivo-comportamentale CBT Academy di Torino \nModeratore: \nDott. Paolo Barcucci\, Consigliere dell’Ordine degli Psicologi del Piemonte
URL:https://oldopp.futuretechlead.com/evento/connessi-la-dimensione-corporea-della-relazione-terapeutica-nellera-digitale/
CATEGORIES:OPP,Psiche e soma
END:VEVENT
BEGIN:VEVENT
DTSTART;TZID=Europe/Rome:20210913T183000
DTEND;TZID=Europe/Rome:20210913T200000
DTSTAMP:20260421T191019
CREATED:20210701T135117Z
LAST-MODIFIED:20211025T134659Z
UID:7849-1631557800-1631563200@oldopp.futuretechlead.com
SUMMARY:Corpi smarriti e corpi itineranti nei percorsi delle donne migranti
DESCRIPTION:Data: 13/09/2021 \nCOIRAG – CONFEDERAZIONE DI ORGANIZZAZIONI ITALIANE PER LA RICERCA ANALITICA SUI GRUPPI\nlunedì 13 settembre 2021\, dalle ore 18:30 alle ore 20:00\nIl lavoro psicologico con le donne migranti di cui si parlerà nel webinar è un compito attivo relativo ad una pratica specifica con un’utenza particolare che si colloca all’interno di una modalità di lavoro (LdG-COIRAG) che\, in generale e con ogni utenza\, attraverso un approccio terapeutico gruppale attenziona il corpo in collegamento con la psiche. Tali livelli del discorso\, presi in considerazione insieme alla storia nelle sue dimensioni personale e collettiva\, portano inevitabilmente a riflettere intorno al tema del viaggio migratorio\, ai paradossi e alle ambiguità che il corpo racconta\, attraverso la propria presenza nel mondo\, in qualità di significante\, a un tempo\, di speranze future e denuncia sociale incarnata. L’attenzione alla complessità\, sia dei processi migratori sia del sistema dell’accoglienza\, il focus sulle risorse\, sul contesto storico\, sul tema dei diritti e sull’efficacia dell’intervento sono alcuni dei fattori distintivi di questo approccio integrato ed interdisciplinare. \nRelatori:\nDott. Enrico Tuninetti\, Psicologo Psicoterapeuta\, Socio del Laboratorio di Gruppoanali. Si occupa di clinica e formazione nell’area della Psicologia transculturale seguendo adulti e minori. Per la sede di Torino del Laboratorio di Gruppoanalisi coordina il sostegno psicologico per donne straniere all’interno di un servizio SAI e svolge l’attività professionale con pazienti richiedenti asilo politico.\nDott.ssa Cristina Carminati\, Psicologa Psicoterapeuta\, Socia del Laboratorio di Gruppoanalisi e Docente COIRAG di Teorie e Metodi dell’Osservazione nei Gruppi. In ambito clinico\, formativo e di intervento psicosociale ha approfondito temi connessi alla violenza di genere. Si occupa di adolescenti\, giovani e adulti. Per la Scuola di Specializzazione in Psicoterapia della COIRAG è membro della Direzione Nazionale e del Consiglio Direttivo della Sede di Torino.
URL:https://oldopp.futuretechlead.com/evento/corpi-smarriti-e-corpi-itineranti-nei-percorsi-delle-donne-migranti/
CATEGORIES:OPP,Psiche e soma
END:VEVENT
BEGIN:VEVENT
DTSTART;TZID=Europe/Rome:20210909T183000
DTEND;TZID=Europe/Rome:20210909T200000
DTSTAMP:20260421T191019
CREATED:20210701T135025Z
LAST-MODIFIED:20211025T134659Z
UID:7846-1631212200-1631217600@oldopp.futuretechlead.com
SUMMARY:La psicoanalisi lacaniana e gli enigmi del corpo
DESCRIPTION:Data: 09/09/2021 \nIPOL – ISTITUTO PSICOANALITICO DI ORIENTAMENTO LACANIANO\ngiovedì 9 Settembre 2021\, dalle ore 18:30 alle ore 20:00\nFin dalle origini\, la psicoanalisi è stata il luogo in cui il corpo viene considerato “corpo parlante” ciò che abita il soggetto\, sfugge a qualsiasi padronanza e che resta\, fondamentalmente\, Altro. A tempo con la decifrazione del disagio della civiltà e dei suoi effetti sui sintomi da cui sono affetti i soggetti contemporanei\, si discuterà di ciò che la psicoanalisi lacaniana può apportare per mantenere vivo il legame tra l’inconscio e il corpo parlante. \nRelatori:\nDott.ssa Paola Bolgiani\, Psicoanalista\, membro SLP e AMP. Socia e Docente IPOL. Dal luglio 2021 Presidente IPOL.\nDott. Davide Pegoraro\, Psicoanalista a Torino\, AE\, membro SLP e AMP\, Docente di IPOL.\nDott.ssa Maria Laura Tkach\, Psicoanalista\, membro della SLP e dell’AMP. Socia e Docente (attuale Direttrice) di IPOL. \nModeratore:\nDott. Simone Carpignano\, Consigliere dell’Ordine degli Psicologi del Piemonte
URL:https://oldopp.futuretechlead.com/evento/la-psicoanalisi-lacaniana-e-gli-enigmi-del-corpo/
CATEGORIES:OPP,Psiche e soma
END:VEVENT
BEGIN:VEVENT
DTSTART;TZID=Europe/Rome:20210709T183000
DTEND;TZID=Europe/Rome:20210709T200000
DTSTAMP:20260421T191019
CREATED:20210701T134931Z
LAST-MODIFIED:20211025T134452Z
UID:7843-1625855400-1625860800@oldopp.futuretechlead.com
SUMMARY:C'era una volta...un re\, una regina\, una principessa e...un terapeuta. Psiche e soma in terapia famigliare
DESCRIPTION:Data: 09/07/2021 \nISTITUTO EMMECI – CENTRO STUDI DI TERAPIA FAMILIARE E RELAZIONALE\nvenerdì 9 Luglio 2021\, dalle ore 18:30 alle ore 20:00\nL’uso del linguaggio analogico e della metafora\, aiuta i terapeuti e i pazienti ad avvicinarsi a quel livello “mitico”\, non direttamente accessibile attraverso l’uso della parola. Così l’incontro terapeutico può avvenire su un piano emozionale\, preconscio\, affettivo … in un clima di collaborazione e creatività\, agevolando la disponibilità a giocare e “mettersi in gioco”. Psiche e soma si arricchiscono e si ampliano man mano che la famiglia si trova in sintonia con il terapeuta. Quando la metafora è “viva”\, isomorfa con la natura del problema presentato\, con la storia e la situazione psicologica dei pazienti\, affiorano nuove possibilità di cambiamento ed evoluzione. \nRelatrici:\nDott.ssa Borghesio Beatrice\, Psicologa Psicoterapeuta\, Didatta del Centro Studi di terapia familiare e relazionale\, Istituto EMMECI\nDott.ssa Bruna Eliana\, Psicologa Psicoterapeuta\, allieva-didatta del Centro Studi di terapia familiare e relazionale\, Istituto EMMECI
URL:https://oldopp.futuretechlead.com/evento/cera-una-volta-un-re-una-regina-una-principessa-e-un-terapeuta-psiche-e-soma-in-terapia-famigliare/
CATEGORIES:OPP,Psiche e soma
END:VEVENT
BEGIN:VEVENT
DTSTART;TZID=Europe/Rome:20210707T183000
DTEND;TZID=Europe/Rome:20210707T200000
DTSTAMP:20260421T191019
CREATED:20210701T134809Z
LAST-MODIFIED:20211025T134527Z
UID:7841-1625682600-1625688000@oldopp.futuretechlead.com
SUMMARY:Dove il corpo diventa “relazionale”: la diade terapeuta-paziente online incarna la consapevolezza
DESCRIPTION:Data: 07/07/2021 \nSTPC – CENTRO TERAPIA COGNITIVA – SCUOLA DI SPECIALIZZAZIONE IN PSICOTERAPIA COGNITIVA\nmercoledì 7 Luglio 2021\, dalle ore 18:30 alle ore 20:00\nIl corpo è tradizionalmente un elemento centrale nel lavoro terapeutico ad indirizzo cognitivo-costruttivista\, sia quale risorsa terapeutica sia come strumento e “luogo” di cura. I recenti sviluppi delle modalità e dei setting online\, sempre più diffusi e sperimentati\, sin dalle prime propulsioni legate alla globalizzazione e poi ancora più incentivati dalla situazione pandemica dell’ultimo anno\, che ha visto un ripensamento globale degli spazi e dei modi delle relazioni e delle connessioni interpersonali\, promuovono una riflessione critica sul processo terapeutico e sul lavoro embodied in psicoterapia online. Il corpo scompare dalla stanza di terapia\, per ricomparire in uno spazio condiviso\, co-costruito attraverso i confini del setting virtuale\, che è lo spazio della relazione terapeutica\, caratterizzato dal coltivare intenzionalmente e consapevolmente l’attunement reciproco e ricorsivamente influenzantesi delle menti di terapeuta e paziente\, fondato sul reciproco scambio di sensazioni\, emozioni attraverso la stimolazione video-supportata del mirroring e del self-mirroring\, e dalla condivisione di stati mentali sui quali si snoda il processo terapeutico attraverso interventi in sincrono e sul diacronico. Il corpo è tradizionalmente un elemento centrale nel lavoro terapeutico ad indirizzo cognitivo-costruttivista\, sia quale risorsa terapeutica sia come strumento e “luogo” di cura. I recenti sviluppi delle modalità e dei setting online\, sempre più diffusi e sperimentati\, sin dalle prime propulsioni legate alla globalizzazione e poi ancora più incentivati dalla situazione pandemica dell’ultimo anno\, che ha visto un ripensamento globale degli spazi e dei modi delle relazioni e delle connessioni interpersonali\, promuovono una riflessione critica sul processo terapeutico e sul lavoro embodied in psicoterapia online. \nIl corpo scompare dalla stanza di terapia\, per ricomparire in uno spazio condiviso\, co-costruito attraverso i confini del setting virtuale\, che è lo spazio della relazione terapeutica\, caratterizzato dal coltivare intenzionalmente e consapevolmente l’attunement reciproco e ricorsivamente influenzantesi delle menti di terapeuta e paziente\, fondato sul reciproco scambio di sensazioni\, emozioni attraverso la stimolazione video-supportata del mirroring e del self-mirroring\, e dalla condivisione di stati mentali sui quali si snoda il processo terapeutico attraverso interventi in sincrono e sul diacronico. “L’atto terapeutico avviene nello spazio-tempo vissuto insieme tra terapeuta e paziente” [Bara\, 2018]\, e si dispiega in un processo a spirale nel quale la relazione permette l’intervento\, che permette la relazione in senso evolutivo e strategicamente orientato. Nel setting online\, ciò è possibile ripensando in modo nuovo alla seduta e a come avviene l’incontro terapeutico. Nella presente relazione verranno evidenziati alcuni elementi essenziali per il lavoro clinico-terapeutico di cambiamento in un setting online\, rileggendo i principali aspetti terapeutico-metodologici propri del modello cognitivo-costruttivista relazionale\, a partire dalle più recenti integrazioni teorico-scientifiche delle neuroscienze. Verrà approfondito\, in particolare\, il processo della cura attraverso il lavoro di consapevolezza del corpo\, sul corpo\, attraverso il corpo nella dimensione di condivisone co-empatica nella texture della relazione terapeutica estrinsecatasi online. \nRelatrice:\nDott.ssa Chiara Marmo\, Psicologa Psicoterapeuta ad indirizzo cognitivo-costruttivista\, Socio ordinario SITCC\, Professore a contratto Dip. Psicologia Università di Torino\, Docente Scuola di Specializzazione in Psicoterapia Cognitiva Centro Terapia Cognitiva\, STPC – Studio Torinese di Psicologia Cognitiva. \nModeratrice:\nDott.ssa Daniela Morero – Consigliera dell’OPP
URL:https://oldopp.futuretechlead.com/evento/dove-il-corpo-diventa-relazionale-la-diade-terapeuta-paziente-online-incarna-la-consapevolezza/
CATEGORIES:OPP,Psiche e soma
END:VEVENT
END:VCALENDAR