BEGIN:VCALENDAR
VERSION:2.0
PRODID:-//Ordine delle Psicologhe e degli Psicologi del Piemonte - ECPv6.15.20//NONSGML v1.0//EN
CALSCALE:GREGORIAN
METHOD:PUBLISH
X-WR-CALNAME:Ordine delle Psicologhe e degli Psicologi del Piemonte
X-ORIGINAL-URL:https://oldopp.futuretechlead.com
X-WR-CALDESC:Eventi per Ordine delle Psicologhe e degli Psicologi del Piemonte
REFRESH-INTERVAL;VALUE=DURATION:PT1H
X-Robots-Tag:noindex
X-PUBLISHED-TTL:PT1H
BEGIN:VTIMEZONE
TZID:Europe/Rome
BEGIN:DAYLIGHT
TZOFFSETFROM:+0100
TZOFFSETTO:+0200
TZNAME:CEST
DTSTART:20210328T010000
END:DAYLIGHT
BEGIN:STANDARD
TZOFFSETFROM:+0200
TZOFFSETTO:+0100
TZNAME:CET
DTSTART:20211031T010000
END:STANDARD
BEGIN:DAYLIGHT
TZOFFSETFROM:+0100
TZOFFSETTO:+0200
TZNAME:CEST
DTSTART:20220327T010000
END:DAYLIGHT
BEGIN:STANDARD
TZOFFSETFROM:+0200
TZOFFSETTO:+0100
TZNAME:CET
DTSTART:20221030T010000
END:STANDARD
BEGIN:DAYLIGHT
TZOFFSETFROM:+0100
TZOFFSETTO:+0200
TZNAME:CEST
DTSTART:20230326T010000
END:DAYLIGHT
BEGIN:STANDARD
TZOFFSETFROM:+0200
TZOFFSETTO:+0100
TZNAME:CET
DTSTART:20231029T010000
END:STANDARD
END:VTIMEZONE
BEGIN:VEVENT
DTSTART;TZID=Europe/Rome:20220930T183000
DTEND;TZID=Europe/Rome:20220930T200000
DTSTAMP:20260421T041823
CREATED:20220518T111608Z
LAST-MODIFIED:20220923T114851Z
UID:19845-1664562600-1664568000@oldopp.futuretechlead.com
SUMMARY:Conoscere e esprimere sè stessi attraverso la scrittura: storia di un gruppo terapeutico per pazienti oncologici
DESCRIPTION:→ Iscriviti al webinar ←\nRelatrice: Dott.ssa Arianna Piacenza \nIn collaborazione con: STPC – Centro Terapia Cognitiva – Scuola di Specializzazione in Psicoterapia Cognitiva
URL:https://oldopp.futuretechlead.com/evento/conoscere-e-esprimere-se-stessi-attraverso-la-scrittura-storia-di-un-gruppo-terapeutico-per-pazienti-oncologici/
CATEGORIES:OPP,Psicoterapia e creatività
END:VEVENT
BEGIN:VEVENT
DTSTART;TZID=Europe/Rome:20220928T183000
DTEND;TZID=Europe/Rome:20220928T200000
DTSTAMP:20260421T041823
CREATED:20220518T111342Z
LAST-MODIFIED:20220923T114845Z
UID:19843-1664389800-1664395200@oldopp.futuretechlead.com
SUMMARY:Creare\, co-creare\, esser creati: estetica e creatività in psicoterapia della Gestalt
DESCRIPTION:→ Iscriviti al webinar ←\nRelatori:\nDott.ssa Michela Gecele\nDott. Gianni Francesetti \nIn collaborazione con: IPsIG – Scuola di Specializzazione in Psicoterapia della Gestalt
URL:https://oldopp.futuretechlead.com/evento/creare-co-creare-esser-creati-estetica-e-creativita-in-psicoterapia-della-gestalt/
CATEGORIES:OPP,Psicoterapia e creatività
END:VEVENT
BEGIN:VEVENT
DTSTART;TZID=Europe/Rome:20220927T183000
DTEND;TZID=Europe/Rome:20220927T200000
DTSTAMP:20260421T041823
CREATED:20220518T110839Z
LAST-MODIFIED:20220923T114834Z
UID:19841-1664303400-1664308800@oldopp.futuretechlead.com
SUMMARY:Adolescenti oggi: adattamenti creativi nella frammentazione dello sfondo sociale
DESCRIPTION:→ Iscriviti al webinar ←\nRelatrici:\nDott.ssa Elena Palladino\nDott.ssa Monica Prato \nIn collaborazione con: ASSOCIAZIONE CULTURALE SGT – Scuola Gestalt di Torino
URL:https://oldopp.futuretechlead.com/evento/adolescenti-oggi-adattamenti-creativi-nella-frammentazione-dello-sfondo-sociale/
CATEGORIES:OPP,Psicoterapia e creatività
END:VEVENT
BEGIN:VEVENT
DTSTART;TZID=Europe/Rome:20220926T183000
DTEND;TZID=Europe/Rome:20220926T200000
DTSTAMP:20260421T041823
CREATED:20220518T110530Z
LAST-MODIFIED:20220923T114825Z
UID:19839-1664217000-1664222400@oldopp.futuretechlead.com
SUMMARY:Creatività come veicolo di cambiamento in terapia: specificità dell'Analisi Transazionale fra psicologia e neuroscienze
DESCRIPTION:→ Iscriviti al webinar ←\nRelatrici:\nDott.ssa Desirèe Boschetti\nDott.ssa Maristella Fantini \nModeratrice:\nDott.ssa Daniela Morero \nIn collaborazione con: ITAT – Istituto Torinese di Analisi Transazionale e Gestalt
URL:https://oldopp.futuretechlead.com/evento/creativita-come-veicolo-di-cambiamento-in-terapia-specificita-dellanalisi-transazionale-fra-psicologia-e-neuroscienze/
CATEGORIES:OPP,Psicoterapia e creatività
END:VEVENT
BEGIN:VEVENT
DTSTART;TZID=Europe/Rome:20220915T183000
DTEND;TZID=Europe/Rome:20220915T200000
DTSTAMP:20260421T041823
CREATED:20220518T105505Z
LAST-MODIFIED:20220518T105505Z
UID:19833-1663266600-1663272000@oldopp.futuretechlead.com
SUMMARY:La creatività in psicoterapia dell'età evolutiva. Motore e sostegno allo sviluppo infantile
DESCRIPTION:Relatrice: Dott.ssa Saveria Barbieri \nIn collaborazione con: SAP – Scuola Adleriana di Psicoterapia
URL:https://oldopp.futuretechlead.com/evento/la-creativita-in-psicoterapia-delleta-evolutiva-motore-e-sostegno-allo-sviluppo-infantile/
CATEGORIES:OPP,Psicoterapia e creatività
END:VEVENT
BEGIN:VEVENT
DTSTART;TZID=Europe/Rome:20220630T183000
DTEND;TZID=Europe/Rome:20220630T200000
DTSTAMP:20260421T041823
CREATED:20220518T100700Z
LAST-MODIFIED:20220518T100700Z
UID:19831-1656613800-1656619200@oldopp.futuretechlead.com
SUMMARY:CBT ed espressioni costruttiviste fra creatività e autopoiesi
DESCRIPTION:Relatori:\nDott.ssa Tiziana Frau\nDott. Ivan De Marco \nIn collaborazione con: CBT ACADEMY – Scuola di Psicoterapia Cognitivo Comportamentale nell’ambito Clinico e Forense
URL:https://oldopp.futuretechlead.com/evento/cbt-ed-espressioni-costruttiviste-fra-creativita-e-autopoiesi/
CATEGORIES:OPP,Psicoterapia e creatività
END:VEVENT
BEGIN:VEVENT
DTSTART;TZID=Europe/Rome:20220615T183000
DTEND;TZID=Europe/Rome:20220615T200000
DTSTAMP:20260421T041823
CREATED:20220518T094903Z
LAST-MODIFIED:20220518T094903Z
UID:19825-1655317800-1655323200@oldopp.futuretechlead.com
SUMMARY:Gruppi in carcere tra vincoli e creatività
DESCRIPTION:Relatori:\nDott.ssa Annamaria Frammartino\nDott. Fabrizio Boccardo \nIn collaborazione con: COIRAG – Confederazione di Organizzazioni Italiane per la Ricerca Analitica sui Gruppi
URL:https://oldopp.futuretechlead.com/evento/gruppi-in-carcere-tra-vincoli-e-creativita/
CATEGORIES:OPP,Psicoterapia e creatività
END:VEVENT
BEGIN:VEVENT
DTSTART;TZID=Europe/Rome:20220609T183000
DTEND;TZID=Europe/Rome:20220609T200000
DTSTAMP:20260421T041823
CREATED:20220518T094353Z
LAST-MODIFIED:20220518T094353Z
UID:19823-1654799400-1654804800@oldopp.futuretechlead.com
SUMMARY:Esperienza\, pensiero e azione - tre dimensioni per situare la creatività in psicologia
DESCRIPTION:Relatore: Dott. Massimo Schinco \nIn collaborazione con: CENTRO STUDI ETEROPOIESI
URL:https://oldopp.futuretechlead.com/evento/esperienza-pensiero-e-azione-tre-dimensioni-per-situare-la-creativita-in-psicologia/
CATEGORIES:OPP,Psicoterapia e creatività
END:VEVENT
END:VCALENDAR