BEGIN:VCALENDAR
VERSION:2.0
PRODID:-//Ordine delle Psicologhe e degli Psicologi del Piemonte - ECPv6.15.20//NONSGML v1.0//EN
CALSCALE:GREGORIAN
METHOD:PUBLISH
X-ORIGINAL-URL:https://oldopp.futuretechlead.com
X-WR-CALDESC:Eventi per Ordine delle Psicologhe e degli Psicologi del Piemonte
REFRESH-INTERVAL;VALUE=DURATION:PT1H
X-Robots-Tag:noindex
X-PUBLISHED-TTL:PT1H
BEGIN:VTIMEZONE
TZID:Europe/Rome
BEGIN:DAYLIGHT
TZOFFSETFROM:+0100
TZOFFSETTO:+0200
TZNAME:CEST
DTSTART:20220327T010000
END:DAYLIGHT
BEGIN:STANDARD
TZOFFSETFROM:+0200
TZOFFSETTO:+0100
TZNAME:CET
DTSTART:20221030T010000
END:STANDARD
BEGIN:DAYLIGHT
TZOFFSETFROM:+0100
TZOFFSETTO:+0200
TZNAME:CEST
DTSTART:20230326T010000
END:DAYLIGHT
BEGIN:STANDARD
TZOFFSETFROM:+0200
TZOFFSETTO:+0100
TZNAME:CET
DTSTART:20231029T010000
END:STANDARD
BEGIN:DAYLIGHT
TZOFFSETFROM:+0100
TZOFFSETTO:+0200
TZNAME:CEST
DTSTART:20240331T010000
END:DAYLIGHT
BEGIN:STANDARD
TZOFFSETFROM:+0200
TZOFFSETTO:+0100
TZNAME:CET
DTSTART:20241027T010000
END:STANDARD
END:VTIMEZONE
BEGIN:VEVENT
DTSTART;TZID=Europe/Rome:20231020T080000
DTEND;TZID=Europe/Rome:20231020T130000
DTSTAMP:20260420T224201
CREATED:20230911T142825Z
LAST-MODIFIED:20230911T142932Z
UID:29328-1697788800-1697806800@oldopp.futuretechlead.com
SUMMARY:Interventi a bassa soglia\, trattamento\, riabilitazione: contrapposizione o integrazione?
DESCRIPTION:Gent.mo/a\, \nla SITD – Società Italiana Tossicodipendenze Sezione Triveneto promuove il seguente Evento. \nSperando che l’iniziativa possa essere di suo interesse inviamo i più cordiali saluti. \nLa Presidente Regionale SITD Triveneto\nDott.ssa Anna Franceschini \nIl Responsabile Provider ECM ed Organizzazione\nDott. Giuseppe Reale \nEvento Formativo SITD \nSezione TRIVENETO 2023\nCorso di Formazione a Distanza Sincrona ECM \nWEBINAR \n“INTERVENTI A BASSA SOGLIA\, TRATTAMENTO\, RIABILITAZIONE: CONTRAPPOSIZIONE O INTEGRAZIONE?” \nVenerdì 20 Ottobre 2023 (mattina) \nL’iscrizione è gratuita per i soci SITD in regola con il versamento della quota associativa SITD 2023. E’ possibile rinnovare la quota associativa direttamente iscrivendosi all’evento. E’ prevista una quota di partecipazione per coloro che non sono Soci SITD e non desiderano diventarlo. \nL’iscrizione è obbligatoria e deve essere effettuata compilando il modulo disponibile online dal 10 Luglio 2023 al 17 Ottobre 2023. \nInformazioni e descrizioni clicca qui \nPRESENTAZIONE \nUno dei grandi problemi dei sistemi di intervento sulle Dipendenze è la difficoltà a giungere in contatto e costruire una relazione positiva e duratura con gli utenti\, i quali sono portatori di complessità diverse e anche di stili di consumo differenti alcuni decisamente severi e dannosi\, altri problematici e rischiosi. Fra coloro che non sono pronti ad entrare in un programma di trattamento come tradizionalmente inteso\, i servizi pubblici e del privato sociale sono chiamati a definire interventi di bassa soglia che spesso prevedono interventi di Riduzione del Danno (RdD)\, cioè “politiche\, programmi e prassi che mirano in primo luogo a ridurre le negative conseguenze sulla salute\, sociali ed economiche\, derivate dall’uso di droghe” secondo la definizione dell’International Harm Reduction Association. Anche la facilitazione all’accesso alle terapie con agonisti oppiacei può essere considerata un aspetto di RdD\, vista la dimostrata efficacia di questi farmaci per ridurre i problemi sanitari e sociali connessi all’uso di eroina e altri oppioidi.\nL’Evento si propone di fare il punto su questi temi a partire dalla convinzione che gli interventi a bassa soglia e di RdD non sono da considerarsi mere azioni pragmatiche portate avanti da singoli gruppi di operatori\, ma devono essere parte di una visione culturale della rete dei servizi che si occupano di dipendenze e della loro prevenzione. Tale visione riconosce che alla complessità dei bisogni degli utenti – nel tempo modificatisi per il cambiamento degli scenari sociali relativi al consumo e del mercato delle droghe – non si può rispondere in modo univoco perché non esiste un intervento valido per tutti i soggetti.\nL’evento formativo vuole quindi offrirsi come luogo di riflessione e di confronto sul valore delle strategie di intervento a bassa soglia e di RdD\, sia proponendo evidenze scientifiche e buone prassi nel territorio\, sia esaminando la relazione tra interventi di bassa soglia\, clinica delle dipendenze e riabilitazione psicosociale\, in termini etici ed organizzativi. \nACCREDITAMENTI FORMATIVI \nEvento formativo accreditato ECM presso la Commissione Nazionale per la Formazione Continua in Medicina. N. 3 ore formative per n. 4\,5 crediti ECM. Il Provider ECM e Segreteria Organizzativa dell’Evento è l’Agenzia Publiedit iscritta all’Albo Nazionale N. 481. ID Evento 481 – 392212. \nECM: evento accreditato per le figure professionali di Medico-Chirurgo (tutte le discipline)\, Biologo\, Farmacista\, Psicologo\, Educatore Professionale\, Infermiere\, Assistente Sanitario\, Tecnico della Riabilitazione Psichiatrica\, Terapista Occupazione\, Chimico. N. 500 posti. \nSono ammessi partecipanti non interessati ai crediti formativi. \nCNOAS: evento accreditato per gli Assistenti Sociali per n. 3 crediti CNOAS. ID evento n. 52258. Provider Nazionale Accreditato presso l’Ordine Nazionale degli Assistenti Sociali – Agenzia Publiedit\, Albo ID 990. \nOBIETTIVO FORMATIVO: FRAGILITA’ E CRONICITA’ (MINORI\, ANZIANI\, DIPENDENZE DA STUPEFACENTI\, ALCOL E LUDOPATIA\, SALUTE MENTALE) NUOVE POVERTA’\, TUTELA DEGLI ASPETTI ASSISTENZIALI\, SOCIO-SANITARI E SOCIO-ASSISTENZIALI. \nResponsabile Scientifico dell’ Evento: Dott.ssa Anna Franceschini
URL:https://oldopp.futuretechlead.com/evento/interventi-a-bassa-soglia-trattamento-riabilitazione-contrapposizione-o-integrazione/
CATEGORIES:Corsi ECM
END:VEVENT
BEGIN:VEVENT
DTSTART;TZID=Europe/Rome:20230922T090000
DTEND;TZID=Europe/Rome:20230922T170000
DTSTAMP:20260420T224201
CREATED:20230911T140001Z
LAST-MODIFIED:20230911T140001Z
UID:29326-1695373200-1695402000@oldopp.futuretechlead.com
SUMMARY:Il sonno dei bambini\, che sfida!
DESCRIPTION:Gentilissimə\,\n \nè nostro piacere invitarvi al webinar “IL SONNO DEI BAMBINI\, CHE SFIDA! Come accompagnare i genitori nelle loro difficoltà legate al sonno dei bambini nei primi anni di vita. Workshop introduttivo Pronto Soccorso Emozionale (PSE)” che si terrà in modalità online nella giornata di venerdì 22 settembre 2023 dalle ore 9:00 alle 17:00 e di cui in allegato trovate il programma completo\, la locandina e il modulo di iscrizione.\n\nL’evento è accreditato ECM per tutte le professioni sanitarie.\n\n\nConfidiamo possiate valutare l’evento di vostro interesse e vogliate diffondere l’invito ai/alle vostri/e iscritti/e tramite i vostri consueti canali.\n \nUn saluto\,
URL:https://oldopp.futuretechlead.com/evento/il-sonno-dei-bambini-che-sfida/
CATEGORIES:Corsi ECM
END:VEVENT
END:VCALENDAR